BEGIN:VCALENDAR
VERSION:2.0
PRODID:-//Central Coast Paddlers - ECPv4.6.11.1//NONSGML v1.0//EN
CALSCALE:GREGORIAN
METHOD:PUBLISH
X-WR-CALNAME:Central Coast Paddlers
X-ORIGINAL-URL:http://centralcoastpaddlers.org.au
X-WR-CALDESC:Events for Central Coast Paddlers
BEGIN:VEVENT
DTSTART;TZID=Australia/Sydney:20180218T080000
DTEND;TZID=Australia/Sydney:20180218T110000
DTSTAMP:20180226T092309
CREATED:20180108T064222Z
LAST-MODIFIED:20180108T064621Z
UID:2927-1518940800-1518951600@centralcoastpaddlers.org.au
SUMMARY:CCP SR2
DESCRIPTION:11.35km race on Wyong River\, option for 7.5km available.\n
URL:http://centralcoastpaddlers.org.au/event/ccp-sr2/
LOCATION:1 Panonia Rd\, Wyong\, NSW\, 2259\, Australia
CATEGORIES:CCP Event
END:VEVENT
END:VCALENDAR